BEGIN:VCALENDAR
VERSION:2.0
PRODID:-//jEvents 2.0 for Joomla//EN
CALSCALE:GREGORIAN
METHOD:PUBLISH
BEGIN:VTIMEZONE
TZID:Europe/Rome
BEGIN:STANDARD
DTSTART:20250114T000000
RDATE:20250330T030000
TZOFFSETFROM:+0200
TZOFFSETTO:+0100
TZNAME:Europe/Rome CET
END:STANDARD
BEGIN:STANDARD
DTSTART:20251026T020000
RDATE:20260329T030000
TZOFFSETFROM:+0200
TZOFFSETTO:+0100
TZNAME:Europe/Rome CET
END:STANDARD
BEGIN:STANDARD
DTSTART:20261025T020000
RDATE:20270328T030000
TZOFFSETFROM:+0200
TZOFFSETTO:+0100
TZNAME:Europe/Rome CET
END:STANDARD
BEGIN:STANDARD
DTSTART:20271031T020000
RDATE:20280326T030000
TZOFFSETFROM:+0200
TZOFFSETTO:+0100
TZNAME:Europe/Rome CET
END:STANDARD
BEGIN:STANDARD
DTSTART:20281029T020000
RDATE:20290325T030000
TZOFFSETFROM:+0200
TZOFFSETTO:+0100
TZNAME:Europe/Rome CET
END:STANDARD
BEGIN:STANDARD
DTSTART:20291028T020000
RDATE:20300331T030000
TZOFFSETFROM:+0200
TZOFFSETTO:+0100
TZNAME:Europe/Rome CET
END:STANDARD
BEGIN:STANDARD
DTSTART:20301027T020000
RDATE:20310330T030000
TZOFFSETFROM:+0200
TZOFFSETTO:+0100
TZNAME:Europe/Rome CET
END:STANDARD
BEGIN:STANDARD
DTSTART:20311026T020000
RDATE:20320328T030000
TZOFFSETFROM:+0200
TZOFFSETTO:+0100
TZNAME:Europe/Rome CET
END:STANDARD
BEGIN:DAYLIGHT
DTSTART:20250330T030000
RDATE:20251026T020000
TZOFFSETFROM:+0100
TZOFFSETTO:+0200
TZNAME:Europe/Rome CEST
END:DAYLIGHT
BEGIN:DAYLIGHT
DTSTART:20260329T030000
RDATE:20261025T020000
TZOFFSETFROM:+0100
TZOFFSETTO:+0200
TZNAME:Europe/Rome CEST
END:DAYLIGHT
BEGIN:DAYLIGHT
DTSTART:20270328T030000
RDATE:20271031T020000
TZOFFSETFROM:+0100
TZOFFSETTO:+0200
TZNAME:Europe/Rome CEST
END:DAYLIGHT
BEGIN:DAYLIGHT
DTSTART:20280326T030000
RDATE:20281029T020000
TZOFFSETFROM:+0100
TZOFFSETTO:+0200
TZNAME:Europe/Rome CEST
END:DAYLIGHT
BEGIN:DAYLIGHT
DTSTART:20290325T030000
RDATE:20291028T020000
TZOFFSETFROM:+0100
TZOFFSETTO:+0200
TZNAME:Europe/Rome CEST
END:DAYLIGHT
BEGIN:DAYLIGHT
DTSTART:20300331T030000
RDATE:20301027T020000
TZOFFSETFROM:+0100
TZOFFSETTO:+0200
TZNAME:Europe/Rome CEST
END:DAYLIGHT
BEGIN:DAYLIGHT
DTSTART:20310330T030000
RDATE:20311026T020000
TZOFFSETFROM:+0100
TZOFFSETTO:+0200
TZNAME:Europe/Rome CEST
END:DAYLIGHT
END:VTIMEZONE
BEGIN:VEVENT
UID:c75782bbd2824f69178006c40e76491a
CATEGORIES:Call for papers
CREATED:20251201T171804
SUMMARY:CFP_Settecento oggi: studi e ricerche in corso. Convegno annuale SISSD 2026
DESCRIPTION:A partire dal 2012, la Società Italiana di Studi sul Secolo XVIII propone p
 er il proprio Convegno Nazionale annuale un’alternanza tra incontri tematic
 i e incontri a tema libero, questi ultimi intesi come occasioni per effettu
 are una periodica ricognizione degli orientamenti della ricerca sul Settece
 nto in Italia e per favorire lo scambio e la circolazione delle conoscenze.
  Dopo i due ultimi incontri tematici Stranieri. Immagini, relazioni e confl
 itti nel Settecento (2024) e Il Settecento delle crisi (2025), si ritiene u
 tile tornare a censire le tendenze degli studi attuali sul Settecento nei v
 ari campi di indagine. Pertanto, nel Convegno Nazionale 2026, che si terrà 
 a Fisciano (SA) dal 20 al 22 maggio, gli studiosi e le studiose interessati
 /e sono invitati/e a presentare e a discutere le proprie ricerche individua
 li o di gruppo, illustrando i risultati finora conseguiti e le prospettive 
 di sviluppo e approfondimento. Chi intende partecipare deve inviare un abst
 ract in formato Word (max 2.000 caratteri, spazi inclusi) così articolato: 
 – nome del/la proponente (o dei/lle proponenti nel caso di ricerche collett
 ive); – titolo; – contenuti e articolazione della relazione che si intende 
 presentare. Si prega inoltre di aggiungere, in coda all’abstract, un breve 
 curriculum vitae (max 1.000 caratteri, spazi inclusi).\nIl file Word conten
 ente abstract e curriculum va inviato entro il 15 gennaio 2026 al seguente 
 indirizzo: Questo indirizzo email è protetto dagli spambots. È necessario a
 bilitare JavaScript per vederlo.. (mailto:segreteria.sissd@sissd.it.) Si ra
 ccomanda vivamente di rispettare i limiti di spazio indicati. Le proposte p
 ervenute saranno vagliate dal Comitato Esecutivo e dal Consiglio Scientific
 o della Società, i quali comunicheranno l’esito ai proponenti entro il 1° m
 arzo 2026.\nGli autori dei contributi selezionati potranno partecipare al C
 onvegno solo se in regola col versamento della quota annuale 2026 iscrizion
 e alla Società. Sia le nuove iscrizioni che i rinnovi devono essere effettu
 ati entro il 31 marzo 2026. Per favorire la partecipazione al convegno da p
 arte di giovani studiosi e studiose non strutturati/e sanno erogate 10 bors
 e di studio. Il bando verrà pubblicato entro marzo sul sito della Società. 
 Ciascun partecipante avrà a disposizione 15 minuti per esporre la propria r
 elazione.\nVersione pdf della call: qui (https://www.sissd.it/wp-content/up
 loads/2025/11/CFP-CONVEGNO-SISSD-2026.pdf)\nSito web (https://www.sissd.it/
 iniziative/settecento-oggi-studi-e-ricerche-in-corso-convegno-annuale-sissd
 -2026-call-for-papers-entro-il-15-01-2026/).\n
X-ALT-DESC;FMTTYPE=text/html:<p>A partire dal 2012, la Società Italiana di Studi sul Secolo XVIII propon
 e per il proprio Convegno Nazionale annuale un’alternanza tra incontri tema
 tici e incontri a tema libero, questi ultimi intesi come occasioni per effe
 ttuare una periodica ricognizione degli orientamenti della ricerca sul Sett
 ecento in Italia e per favorire lo scambio e la circolazione delle conoscen
 ze. Dopo i due ultimi incontri tematici Stranieri. Immagini, relazioni e co
 nflitti nel Settecento (2024) e Il Settecento delle crisi (2025), si ritien
 e utile tornare a censire le tendenze degli studi attuali sul Settecento ne
 i vari campi di indagine. Pertanto, nel Convegno Nazionale 2026, che si ter
 rà a Fisciano (SA) dal 20 al 22 maggio, gli studiosi e le studiose interess
 ati/e sono invitati/e a presentare e a discutere le proprie ricerche indivi
 duali o di gruppo, illustrando i risultati finora conseguiti e le prospetti
 ve di sviluppo e approfondimento. Chi intende partecipare deve inviare un a
 bstract in formato Word (max 2.000 caratteri, spazi inclusi) così articolat
 o: – nome del/la proponente (o dei/lle proponenti nel caso di ricerche coll
 ettive); – titolo; – contenuti e articolazione della relazione che si inten
 de presentare. Si prega inoltre di aggiungere, in coda all’abstract, un bre
 ve curriculum vitae (max 1.000 caratteri, spazi inclusi).</p><p>Il file Wor
 d contenente abstract e curriculum va inviato entro il <strong>15 gennaio 2
 026</strong> al seguente indirizzo: <a href="mailto:segreteria.sissd@sissd.
 it."><joomla-hidden-mail  is-link="1" is-email="1" first="c2VncmV0ZXJpYS5za
 XNzZA==" last="c2lzc2QuaXQ=" text="c2VncmV0ZXJpYS5zaXNzZEBzaXNzZC5pdA==" ba
 se="" >Questo indirizzo email è protetto dagli spambots. È necessario abili
 tare JavaScript per vederlo.</joomla-hidden-mail>.</a> Si raccomanda vivame
 nte di rispettare i limiti di spazio indicati. Le proposte pervenute sarann
 o vagliate dal Comitato Esecutivo e dal Consiglio Scientifico della Società
 , i quali comunicheranno l’esito ai proponenti entro il <strong>1° marzo 20
 26</strong>.</p><p>Gli autori dei contributi selezionati potranno partecipa
 re al Convegno solo se in regola col versamento della quota annuale 2026 is
 crizione alla Società. Sia le nuove iscrizioni che i rinnovi devono essere 
 effettuati entro il 31 marzo 2026. Per favorire la partecipazione al conveg
 no da parte di giovani studiosi e studiose non strutturati/e sanno erogate 
 10 borse di studio. Il bando verrà pubblicato entro marzo sul sito della So
 cietà. Ciascun partecipante avrà a disposizione 15 minuti per esporre la pr
 opria relazione.</p><p>Versione pdf della call:&nbsp;<strong><a href="https
 ://www.sissd.it/wp-content/uploads/2025/11/CFP-CONVEGNO-SISSD-2026.pdf">qui
 </a></strong></p><p><a href="https://www.sissd.it/iniziative/settecento-ogg
 i-studi-e-ricerche-in-corso-convegno-annuale-sissd-2026-call-for-papers-ent
 ro-il-15-01-2026/" target="_blank" rel="noopener">Sito web</a>.</p>
DTSTAMP:20260422T174135
DTSTART;TZID=Europe/Rome;VALUE=DATE:20260115
DTEND;TZID=Europe/Rome;VALUE=DATE:20260116
SEQUENCE:0
TRANSP:OPAQUE
END:VEVENT
END:VCALENDAR